BEGIN:VCALENDAR
VERSION:2.0
PRODID:-//Island Safe Harbor Animal Sanctuary, Inc - ECPv6.13.2.1//NONSGML v1.0//EN
CALSCALE:GREGORIAN
METHOD:PUBLISH
X-ORIGINAL-URL:https://islandsafeharbor.org
X-WR-CALDESC:Events for Island Safe Harbor Animal Sanctuary, Inc
REFRESH-INTERVAL;VALUE=DURATION:PT1H
X-Robots-Tag:noindex
X-PUBLISHED-TTL:PT1H
BEGIN:VTIMEZONE
TZID:UTC
BEGIN:STANDARD
TZOFFSETFROM:+0000
TZOFFSETTO:+0000
TZNAME:UTC
DTSTART:20250101T000000
END:STANDARD
END:VTIMEZONE
BEGIN:VEVENT
DTSTART;TZID=UTC:20251102T130000
DTEND;TZID=UTC:20251102T160000
DTSTAMP:20260423T234125
CREATED:20250827T121401Z
LAST-MODIFIED:20250911T183115Z
UID:6118-1762088400-1762099200@islandsafeharbor.org
SUMMARY:CHILI COOKOFF
DESCRIPTION:
URL:https://islandsafeharbor.org/event/6118/
LOCATION:Star Lanes at the Harbor\, 311 Buckeye Blvd\, Port Clinton\, OH\, 43452\, United States
ORGANIZER;CN="ISHAS":MAILTO:islandshas@aol.com
END:VEVENT
END:VCALENDAR