BEGIN:VCALENDAR
VERSION:2.0
PRODID:-//Island Safe Harbor Animal Sanctuary, Inc - ECPv6.13.2.1//NONSGML v1.0//EN
CALSCALE:GREGORIAN
METHOD:PUBLISH
X-ORIGINAL-URL:https://islandsafeharbor.org
X-WR-CALDESC:Events for Island Safe Harbor Animal Sanctuary, Inc
REFRESH-INTERVAL;VALUE=DURATION:PT1H
X-Robots-Tag:noindex
X-PUBLISHED-TTL:PT1H
BEGIN:VTIMEZONE
TZID:UTC
BEGIN:STANDARD
TZOFFSETFROM:+0000
TZOFFSETTO:+0000
TZNAME:UTC
DTSTART:20250101T000000
END:STANDARD
END:VTIMEZONE
BEGIN:VEVENT
DTSTART;TZID=UTC:20250413T120000
DTEND;TZID=UTC:20250413T140000
DTSTAMP:20260425T122108
CREATED:20250319T160702Z
LAST-MODIFIED:20250319T160702Z
UID:5905-1744545600-1744552800@islandsafeharbor.org
SUMMARY:Dog Pictures with the Easter Bunny
DESCRIPTION:
URL:https://islandsafeharbor.org/event/dog-pictures-with-the-easter-bunny/
LOCATION:Jack’s Amish Country Konnection\, 189 S Bridge Rd\, Lakeside Marblehead\, OH\, 43440\, United States
CATEGORIES:In Person
ATTACH;FMTTYPE=image/png:https://islandsafeharbor.org/wp-content/uploads/2025/03/JOIN-ISLAND-SAFE-HARBOR-ANIMAL-SANCTUARY-AND-JACKS-AMISH-COUNTRY-KONNECTION-FOR-2-1.png
ORGANIZER;CN="ISHAS":MAILTO:islandshas@aol.com
END:VEVENT
BEGIN:VEVENT
DTSTART;VALUE=DATE:20250501
DTEND;VALUE=DATE:20250502
DTSTAMP:20260425T122108
CREATED:20250321T163632Z
LAST-MODIFIED:20250321T165609Z
UID:5910-1746057600-1746143999@islandsafeharbor.org
SUMMARY:Raffle a Day in May
DESCRIPTION:Over $2\,900 in prizes to win & mailed direct to you! \n$20 = 1 chance to win per day (31 tickets) \n$35 = 2 chances to win per day (62 tickets) \n$60 = 4 chances to win per day (124 tickets) \n$100 = 8 chances to win per day MOST BARK FOR YOUR BUCK! (248 tickets) \nWinners will be chosen randomly every day in May to win the prize shown on the calendar. \nOhhh and did we mention YOU CAN WIN MULTIPLE TIMES throughout the month?!?!
URL:https://islandsafeharbor.org/event/raffle-a-day-in-may/
LOCATION:OH
CATEGORIES:Online
ATTACH;FMTTYPE=image/gif:https://islandsafeharbor.org/wp-content/uploads/2025/03/May-Calendar-Raffle.gif
END:VEVENT
BEGIN:VEVENT
DTSTART;TZID=UTC:20250817T100000
DTEND;TZID=UTC:20250817T170000
DTSTAMP:20260425T122108
CREATED:20250723T153716Z
LAST-MODIFIED:20250729T211005Z
UID:6084-1755424800-1755450000@islandsafeharbor.org
SUMMARY:
DESCRIPTION:
URL:https://islandsafeharbor.org/event/6084/
LOCATION:Sandusky Book Bar\, 2101 W Perkins Avenue\, Sandusky\, OH\, 44870\, United States
END:VEVENT
BEGIN:VEVENT
DTSTART;TZID=UTC:20250925T190000
DTEND;TZID=UTC:20250925T213000
DTSTAMP:20260425T122108
CREATED:20250815T135739Z
LAST-MODIFIED:20250815T135739Z
UID:6111-1758826800-1758835800@islandsafeharbor.org
SUMMARY:REMEMBER ME THURSDAY
DESCRIPTION:
URL:https://islandsafeharbor.org/event/remember-me-thursday-2/
LOCATION:ISLAND SAFE HARBOR ANIMAL SANCTUARY\, 3620 E. State Street\, Port Clinton\, OH\, 43452\, United States
ORGANIZER;CN="ISHAS":MAILTO:islandshas@aol.com
END:VEVENT
BEGIN:VEVENT
DTSTART;TZID=UTC:20251102T130000
DTEND;TZID=UTC:20251102T160000
DTSTAMP:20260425T122108
CREATED:20250827T121401Z
LAST-MODIFIED:20250911T183115Z
UID:6118-1762088400-1762099200@islandsafeharbor.org
SUMMARY:CHILI COOKOFF
DESCRIPTION:
URL:https://islandsafeharbor.org/event/6118/
LOCATION:Star Lanes at the Harbor\, 311 Buckeye Blvd\, Port Clinton\, OH\, 43452\, United States
ORGANIZER;CN="ISHAS":MAILTO:islandshas@aol.com
END:VEVENT
BEGIN:VEVENT
DTSTART;TZID=UTC:20251207T130000
DTEND;TZID=UTC:20251207T160000
DTSTAMP:20260425T122108
CREATED:20251115T161436Z
LAST-MODIFIED:20251115T161436Z
UID:6175-1765112400-1765123200@islandsafeharbor.org
SUMMARY:PICTURES WITH SANTA
DESCRIPTION:
URL:https://islandsafeharbor.org/event/pictures-with-santa/
LOCATION:Jack’s Amish Country Konnection\, 189 S Bridge Rd\, Lakeside Marblehead\, OH\, 43440\, United States
END:VEVENT
BEGIN:VEVENT
DTSTART;TZID=UTC:20260322T120000
DTEND;TZID=UTC:20260322T150000
DTSTAMP:20260425T122108
CREATED:20260205T171636Z
LAST-MODIFIED:20260205T171636Z
UID:6277-1774180800-1774191600@islandsafeharbor.org
SUMMARY:PICTURES WITH THE EASTER BUNNY
DESCRIPTION:
URL:https://islandsafeharbor.org/event/pictures-with-the-easter-bunny/
LOCATION:Jack’s Amish Country Konnection\, 189 S Bridge Rd\, Lakeside Marblehead\, OH\, 43440\, United States
CATEGORIES:In Person
END:VEVENT
END:VCALENDAR