BEGIN:VCALENDAR
VERSION:2.0
PRODID:-//Island Safe Harbor Animal Sanctuary, Inc - ECPv6.13.2.1//NONSGML v1.0//EN
CALSCALE:GREGORIAN
METHOD:PUBLISH
X-ORIGINAL-URL:https://islandsafeharbor.org
X-WR-CALDESC:Events for Island Safe Harbor Animal Sanctuary, Inc
REFRESH-INTERVAL;VALUE=DURATION:PT1H
X-Robots-Tag:noindex
X-PUBLISHED-TTL:PT1H
BEGIN:VTIMEZONE
TZID:UTC
BEGIN:STANDARD
TZOFFSETFROM:+0000
TZOFFSETTO:+0000
TZNAME:UTC
DTSTART:20240101T000000
END:STANDARD
END:VTIMEZONE
BEGIN:VEVENT
DTSTART;TZID=UTC:20260322T120000
DTEND;TZID=UTC:20260322T150000
DTSTAMP:20260423T185447
CREATED:20260205T171636Z
LAST-MODIFIED:20260205T171636Z
UID:6277-1774180800-1774191600@islandsafeharbor.org
SUMMARY:PICTURES WITH THE EASTER BUNNY
DESCRIPTION:
URL:https://islandsafeharbor.org/event/pictures-with-the-easter-bunny/
LOCATION:Jack’s Amish Country Konnection\, 189 S Bridge Rd\, Lakeside Marblehead\, OH\, 43440\, United States
CATEGORIES:In Person
END:VEVENT
BEGIN:VEVENT
DTSTART;TZID=UTC:20250413T120000
DTEND;TZID=UTC:20250413T140000
DTSTAMP:20260423T185447
CREATED:20250319T160702Z
LAST-MODIFIED:20250319T160702Z
UID:5905-1744545600-1744552800@islandsafeharbor.org
SUMMARY:Dog Pictures with the Easter Bunny
DESCRIPTION:
URL:https://islandsafeharbor.org/event/dog-pictures-with-the-easter-bunny/
LOCATION:Jack’s Amish Country Konnection\, 189 S Bridge Rd\, Lakeside Marblehead\, OH\, 43440\, United States
CATEGORIES:In Person
ATTACH;FMTTYPE=image/png:https://islandsafeharbor.org/wp-content/uploads/2025/03/JOIN-ISLAND-SAFE-HARBOR-ANIMAL-SANCTUARY-AND-JACKS-AMISH-COUNTRY-KONNECTION-FOR-2-1.png
ORGANIZER;CN="ISHAS":MAILTO:islandshas@aol.com
END:VEVENT
BEGIN:VEVENT
DTSTART;TZID=UTC:20241110T140000
DTEND;TZID=UTC:20241110T160000
DTSTAMP:20260423T185447
CREATED:20240830T224221Z
LAST-MODIFIED:20240830T224221Z
UID:5526-1731247200-1731254400@islandsafeharbor.org
SUMMARY:Chili Cookoff Fundraiser!
DESCRIPTION:2024 Cleats Chili Cook-off benefiting ISHAS. \nMore event details to come closer to the event
URL:https://islandsafeharbor.org/event/chili-cookoff-fundraiser/
LOCATION:Cleats Marblehead\, 6801 E Harbor Rd\,\, Lakeside Marblehead\, OH\, 43440\, United States
CATEGORIES:In Person
ATTACH;FMTTYPE=image/png:https://islandsafeharbor.org/wp-content/uploads/2024/08/Copy-of-Copy-of-Untitled-Design.png
END:VEVENT
BEGIN:VEVENT
DTSTART;TZID=UTC:20241027T160000
DTEND;TZID=UTC:20241027T180000
DTSTAMP:20260423T185447
CREATED:20241014T133818Z
LAST-MODIFIED:20241014T133818Z
UID:5563-1730044800-1730052000@islandsafeharbor.org
SUMMARY:Community Trunk or Treat
DESCRIPTION:A safe alternative for children with the Annual Community Trunk Or Treat Event When: Sunday Oct. 27th\, 2024Where: Sandusky Plaza Cleveland Rd.Time: 4p-6pBring your families out & enjoy a safe alternative to Trick or Treating 
URL:https://islandsafeharbor.org/event/community-trunk-or-treat/
LOCATION:Sandusky Square\, Cleveland Road & Sycamore Line\, Sandusky\, OH\, United States
CATEGORIES:In Person
ATTACH;FMTTYPE=image/jpeg:https://islandsafeharbor.org/wp-content/uploads/2024/10/462516940_9072165302802281_3230104185847778163_n.jpg
END:VEVENT
BEGIN:VEVENT
DTSTART;TZID=UTC:20241013T110000
DTEND;TZID=UTC:20241013T170000
DTSTAMP:20260423T185447
CREATED:20240830T225157Z
LAST-MODIFIED:20240830T225157Z
UID:5530-1728817200-1728838800@islandsafeharbor.org
SUMMARY:Pumpkins in the Park
DESCRIPTION:Join us at the 2nd annual Pumpkins in the Park. Hosted by Port Clinton Candy Company\, the event will be benefiting Island Safe Harbor Animal Sanctuary and Champions for Children. This year’s event includes food trucks\, craft vendors\, pumpkin painting\, tarot cards readings\, music and more!A Halloween “egg” hunt will be held at noon for children 12 and under. Costumes are welcome and encouraged Want to help make this event the best it can be? Donations\, both monetary and raffle basket items are being accepted at Port Clinton Candy Company.Be a Pumpkin volunteer! If interested\, email pcsweets.contact@gmail.com
URL:https://islandsafeharbor.org/event/pumpkins-in-the-park/
LOCATION:Lakeview Park Port Clinton\, 1100 E. Perry St\, Port Clinton\, OH\, 43452\, United States
CATEGORIES:In Person
ATTACH;FMTTYPE=image/jpeg:https://islandsafeharbor.org/wp-content/uploads/2024/08/453854752_901091092036705_2963814208895148563_n.jpg
ORGANIZER;CN="Port Clinton Candy Company":MAILTO:pcsweets.contact@gmail.com
END:VEVENT
BEGIN:VEVENT
DTSTART;VALUE=DATE:20240930
DTEND;VALUE=DATE:20241001
DTSTAMP:20260423T185447
CREATED:20240830T231817Z
LAST-MODIFIED:20240830T231817Z
UID:5535-1727654400-1727740799@islandsafeharbor.org
SUMMARY:Fireball Open Golf Tournament w/ Afterparty!
DESCRIPTION:Annual Fireball Open & Fundraiser. Scramble will be held at Thunderbird Hills South Golf Course in Huron. \n19th Hole Gathering will be at the Crow’s Nest at 5pm with awesome raffles\, food\, and drinks!
URL:https://islandsafeharbor.org/event/fireball-open-golf-tournament-w-afterparty/
LOCATION:The Crow’s Nest Restaurant\, 2170 N Buck Rd\, Lakeside Marblehead\, OH\, 43440\, United States
CATEGORIES:In Person
ATTACH;FMTTYPE=image/jpeg:https://islandsafeharbor.org/wp-content/uploads/2024/08/456570834_1043691541094059_658127936124341940_n.jpg
END:VEVENT
BEGIN:VEVENT
DTSTART;TZID=UTC:20240908T100000
DTEND;TZID=UTC:20240908T140000
DTSTAMP:20260423T185447
CREATED:20240829T235036Z
LAST-MODIFIED:20240829T235146Z
UID:5511-1725789600-1725804000@islandsafeharbor.org
SUMMARY:Cause 4 Paws Car Show & Pet Expo
DESCRIPTION:ISHAS will be setting up a booth at this year’s Cause 4 Paws Car Show & Pet Expo! \nWe will have art\, ornaments\, shirts\, and food bowls made exclusively for this event. \nFood trucks and vendors\, huge 50/50 raffle\, and too many awesome basket raffles to list! \nCome see us!
URL:https://islandsafeharbor.org/event/cause-4-paws-car-show-pet-expo/
LOCATION:Firelands Chevrolet Vermilion\, Vermilion\, OH\, United States
CATEGORIES:In Person
ATTACH;FMTTYPE=image/jpeg:https://islandsafeharbor.org/wp-content/uploads/2024/08/cause-4-paws.jpg
END:VEVENT
END:VCALENDAR